Package: TIN Version: 1.34.0 Command: /home/biocbuild/bbs-3.18-bioc/R/bin/R CMD check --install=check:TIN.install-out.txt --library=/home/biocbuild/bbs-3.18-bioc/R/site-library --timings TIN_1.34.0.tar.gz StartedAt: 2024-04-16 04:47:06 -0400 (Tue, 16 Apr 2024) EndedAt: 2024-04-16 04:51:09 -0400 (Tue, 16 Apr 2024) EllapsedTime: 243.1 seconds RetCode: 0 Status: OK CheckDir: TIN.Rcheck Warnings: 0