Package: TFutils Version: 1.22.0 Command: /home/biocbuild/bbs-3.18-bioc/R/bin/R CMD build --keep-empty-dirs --no-resave-data TFutils StartedAt: 2024-04-15 19:35:01 -0400 (Mon, 15 Apr 2024) EndedAt: 2024-04-15 19:36:34 -0400 (Mon, 15 Apr 2024) EllapsedTime: 93.0 seconds RetCode: 0 Status: OK PackageFile: TFutils_1.22.0.tar.gz PackageFileSize: 5.94 MiB