Package: TFHAZ Version: 1.24.0 Command: chmod a+r TFHAZ -R && F:\biocbuild\bbs-3.18-bioc\R\bin\R.exe CMD build --keep-empty-dirs --no-resave-data TFHAZ StartedAt: 2024-04-15 21:42:49 -0400 (Mon, 15 Apr 2024) EndedAt: 2024-04-15 21:44:04 -0400 (Mon, 15 Apr 2024) EllapsedTime: 74.3 seconds RetCode: 0 Status: OK PackageFile: TFHAZ_1.24.0.tar.gz PackageFileSize: 2.398 MiB