Package: TFHAZ Version: 1.24.0 Command: /Library/Frameworks/R.framework/Resources/bin/R CMD build --keep-empty-dirs --no-resave-data TFHAZ StartedAt: 2024-03-03 18:35:05 -0500 (Sun, 03 Mar 2024) EndedAt: 2024-03-03 18:36:24 -0500 (Sun, 03 Mar 2024) EllapsedTime: 79.0 seconds RetCode: 0 Status: OK PackageFile: TFHAZ_1.24.0.tar.gz PackageFileSize: 2.498 MiB