Package: TFEA.ChIP Version: 1.22.0 Command: chmod a+r TFEA.ChIP -R && F:\biocbuild\bbs-3.18-bioc\R\bin\R.exe CMD build --keep-empty-dirs --no-resave-data TFEA.ChIP StartedAt: 2024-04-15 21:42:46 -0400 (Mon, 15 Apr 2024) EndedAt: 2024-04-15 21:44:17 -0400 (Mon, 15 Apr 2024) EllapsedTime: 90.3 seconds RetCode: 0 Status: OK PackageFile: TFEA.ChIP_1.22.0.tar.gz PackageFileSize: 5.244 MiB