Package: TFEA.ChIP Version: 1.22.0 Command: rm -rf TFEA.ChIP.buildbin-libdir && mkdir TFEA.ChIP.buildbin-libdir && F:\biocbuild\bbs-3.18-bioc\R\bin\R.exe CMD INSTALL --build --library=TFEA.ChIP.buildbin-libdir TFEA.ChIP_1.22.0.tar.gz StartedAt: 2024-04-16 07:47:47 -0400 (Tue, 16 Apr 2024) EndedAt: 2024-04-16 07:48:38 -0400 (Tue, 16 Apr 2024) EllapsedTime: 51.1 seconds RetCode: 0 Status: OK PackageFile: TFEA.ChIP_1.22.0.zip PackageFileSize: 5.208 MiB