Package: TFEA.ChIP Version: 1.22.0 Command: rm -rf TFEA.ChIP.buildbin-libdir && mkdir TFEA.ChIP.buildbin-libdir && /Users/biocbuild/BBS/utils/build-universal.sh TFEA.ChIP_1.22.0.tar.gz /Library/Frameworks/R.framework/Resources/bin/R TFEA.ChIP.buildbin-libdir StartedAt: 2024-04-16 12:52:05 -0400 (Tue, 16 Apr 2024) EndedAt: 2024-04-16 12:53:27 -0400 (Tue, 16 Apr 2024) EllapsedTime: 82.1 seconds RetCode: 0 Status: OK PackageFile: TFEA.ChIP_1.22.0.tgz PackageFileSize: 5.214 MiB