Package: TFEA.ChIP Version: 1.22.0 Command: /Library/Frameworks/R.framework/Resources/bin/R CMD check --install=check:TFEA.ChIP.install-out.txt --library=/Library/Frameworks/R.framework/Resources/library --no-vignettes --timings TFEA.ChIP_1.22.0.tar.gz StartedAt: 2024-03-03 23:55:08 -0500 (Sun, 03 Mar 2024) EndedAt: 2024-03-04 00:02:23 -0500 (Mon, 04 Mar 2024) EllapsedTime: 435.2 seconds RetCode: 0 Status: OK CheckDir: TFEA.ChIP.Rcheck Warnings: 0