Package: TFEA.ChIP Version: 1.22.0 Command: /Library/Frameworks/R.framework/Resources/bin/R CMD build --keep-empty-dirs --no-resave-data TFEA.ChIP StartedAt: 2024-03-03 18:35:00 -0500 (Sun, 03 Mar 2024) EndedAt: 2024-03-03 18:36:38 -0500 (Sun, 03 Mar 2024) EllapsedTime: 98.3 seconds RetCode: 0 Status: OK PackageFile: TFEA.ChIP_1.22.0.tar.gz PackageFileSize: 5.253 MiB