Package: TFEA.ChIP Version: 1.22.0 Command: /home/biocbuild/R/R-4.3.1/bin/R CMD build --keep-empty-dirs --no-resave-data TFEA.ChIP StartedAt: 2023-11-02 07:02:34 -0000 (Thu, 02 Nov 2023) EndedAt: 2023-11-02 07:04:33 -0000 (Thu, 02 Nov 2023) EllapsedTime: 119.1 seconds RetCode: 0 Status: OK PackageFile: TFEA.ChIP_1.22.0.tar.gz PackageFileSize: 5.255 MiB