Package: TEQC Version: 4.24.0 Command: chmod a+r TEQC -R && F:\biocbuild\bbs-3.18-bioc\R\bin\R.exe CMD build --keep-empty-dirs --no-resave-data TEQC StartedAt: 2024-04-15 21:42:03 -0400 (Mon, 15 Apr 2024) EndedAt: 2024-04-15 21:42:32 -0400 (Mon, 15 Apr 2024) EllapsedTime: 29.0 seconds RetCode: 0 Status: OK PackageFile: TEQC_4.24.0.tar.gz PackageFileSize: 510.7 KiB