Package: TEQC Version: 4.24.0 Command: rm -rf TEQC.buildbin-libdir && mkdir TEQC.buildbin-libdir && /Users/biocbuild/BBS/utils/build-universal.sh TEQC_4.24.0.tar.gz /Library/Frameworks/R.framework/Resources/bin/R TEQC.buildbin-libdir StartedAt: 2024-03-04 01:08:27 -0500 (Mon, 04 Mar 2024) EndedAt: 2024-03-04 01:08:50 -0500 (Mon, 04 Mar 2024) EllapsedTime: 22.6 seconds RetCode: 0 Status: OK PackageFile: TEQC_4.24.0.tgz PackageFileSize: 787.9 KiB