Package: TDbasedUFEadv Version: 1.2.0 Command: /Library/Frameworks/R.framework/Resources/bin/R CMD build --keep-empty-dirs --no-resave-data TDbasedUFEadv StartedAt: 2024-03-03 18:34:28 -0500 (Sun, 03 Mar 2024) EndedAt: 2024-03-03 18:37:53 -0500 (Sun, 03 Mar 2024) EllapsedTime: 204.3 seconds RetCode: 0 Status: OK PackageFile: TDbasedUFEadv_1.2.0.tar.gz PackageFileSize: 3.568 MiB