Package: TCseq Version: 1.26.0 Command: rm -rf TCseq.buildbin-libdir && mkdir TCseq.buildbin-libdir && F:\biocbuild\bbs-3.18-bioc\R\bin\R.exe CMD INSTALL --build --library=TCseq.buildbin-libdir TCseq_1.26.0.tar.gz StartedAt: 2024-04-16 07:47:24 -0400 (Tue, 16 Apr 2024) EndedAt: 2024-04-16 07:48:04 -0400 (Tue, 16 Apr 2024) EllapsedTime: 39.9 seconds RetCode: 0 Status: OK PackageFile: TCseq_1.26.0.zip PackageFileSize: 747.5 KiB