Package: TCseq Version: 1.26.0 Command: /Library/Frameworks/R.framework/Resources/bin/R CMD build --keep-empty-dirs --no-resave-data TCseq StartedAt: 2024-03-03 18:34:13 -0500 (Sun, 03 Mar 2024) EndedAt: 2024-03-03 18:35:05 -0500 (Sun, 03 Mar 2024) EllapsedTime: 51.8 seconds RetCode: 0 Status: OK PackageFile: TCseq_1.26.0.tar.gz PackageFileSize: 1.114 MiB