Package: TCGAbiolinks Version: 2.30.4 Command: rm -rf TCGAbiolinks.buildbin-libdir && mkdir TCGAbiolinks.buildbin-libdir && F:\biocbuild\bbs-3.18-bioc\R\bin\R.exe CMD INSTALL --build --library=TCGAbiolinks.buildbin-libdir TCGAbiolinks_2.30.4.tar.gz StartedAt: 2024-04-16 07:47:21 -0400 (Tue, 16 Apr 2024) EndedAt: 2024-04-16 07:48:42 -0400 (Tue, 16 Apr 2024) EllapsedTime: 80.7 seconds RetCode: 0 Status: OK PackageFile: TCGAbiolinks_2.30.4.zip PackageFileSize: 60.7 MiB