Package: TCGAbiolinks Version: 2.30.4 Command: /home/biocbuild/bbs-3.18-bioc/R/bin/R CMD INSTALL TCGAbiolinks StartedAt: 2024-04-15 15:24:09 -0400 (Mon, 15 Apr 2024) EndedAt: 2024-04-15 15:24:52 -0400 (Mon, 15 Apr 2024) EllapsedTime: 43.3 seconds RetCode: 0 Status: OK