Package: TCGAbiolinks Version: 2.30.4 Command: /Library/Frameworks/R.framework/Resources/bin/R CMD check --install=check:TCGAbiolinks.install-out.txt --library=/Library/Frameworks/R.framework/Resources/library --no-vignettes --timings TCGAbiolinks_2.30.4.tar.gz StartedAt: 2024-04-16 09:48:27 -0400 (Tue, 16 Apr 2024) EndedAt: 2024-04-16 10:04:54 -0400 (Tue, 16 Apr 2024) EllapsedTime: 987.2 seconds RetCode: 1 Status: ERROR CheckDir: TCGAbiolinks.Rcheck Warnings: NA