Package: TCGAbiolinks Version: 2.30.0 Command: /home/biocbuild/R/R-4.3.1/bin/R CMD build --keep-empty-dirs --no-resave-data TCGAbiolinks StartedAt: 2023-11-02 06:59:15 -0000 (Thu, 02 Nov 2023) EndedAt: 2023-11-02 07:07:13 -0000 (Thu, 02 Nov 2023) EllapsedTime: 478.0 seconds RetCode: 0 Status: OK PackageFile: TCGAbiolinks_2.30.0.tar.gz PackageFileSize: 64.05 MiB