Package: TBSignatureProfiler Version: 1.14.0 Command: /home/biocbuild/bbs-3.18-bioc/R/bin/R CMD build --keep-empty-dirs --no-resave-data TBSignatureProfiler StartedAt: 2024-04-15 19:33:32 -0400 (Mon, 15 Apr 2024) EndedAt: 2024-04-15 19:34:26 -0400 (Mon, 15 Apr 2024) EllapsedTime: 53.7 seconds RetCode: 0 Status: OK PackageFile: TBSignatureProfiler_1.14.0.tar.gz PackageFileSize: 3.996 MiB