Package: TBSignatureProfiler Version: 1.14.0 Command: /home/biocbuild/R/R-4.3.1/bin/R CMD build --keep-empty-dirs --no-resave-data TBSignatureProfiler StartedAt: 2023-11-02 06:59:09 -0000 (Thu, 02 Nov 2023) EndedAt: 2023-11-02 07:00:34 -0000 (Thu, 02 Nov 2023) EllapsedTime: 85.0 seconds RetCode: 0 Status: OK PackageFile: TBSignatureProfiler_1.14.0.tar.gz PackageFileSize: 4.316 MiB