Package: TAPseq Version: 1.14.1 Command: /Library/Frameworks/R.framework/Resources/bin/R CMD build --keep-empty-dirs --no-resave-data TAPseq StartedAt: 2024-03-03 18:33:34 -0500 (Sun, 03 Mar 2024) EndedAt: 2024-03-03 18:37:39 -0500 (Sun, 03 Mar 2024) EllapsedTime: 244.8 seconds RetCode: 0 Status: OK PackageFile: TAPseq_1.14.1.tar.gz PackageFileSize: 2.52 MiB