Package: TAPseq Version: 1.14.1 Command: rm -rf TAPseq.buildbin-libdir && mkdir TAPseq.buildbin-libdir && /Users/biocbuild/BBS/utils/build-universal.sh TAPseq_1.14.1.tar.gz /Library/Frameworks/R.framework/Resources/bin/R TAPseq.buildbin-libdir StartedAt: 2024-03-04 01:08:09 -0500 (Mon, 04 Mar 2024) EndedAt: 2024-03-04 01:09:12 -0500 (Mon, 04 Mar 2024) EllapsedTime: 62.5 seconds RetCode: 0 Status: OK PackageFile: TAPseq_1.14.1.tgz PackageFileSize: 2.953 MiB