Package: SynMut Version: 1.18.0 Command: rm -rf SynMut.buildbin-libdir && mkdir SynMut.buildbin-libdir && /Users/biocbuild/BBS/utils/build-universal.sh SynMut_1.18.0.tar.gz /Library/Frameworks/R.framework/Resources/bin/R SynMut.buildbin-libdir StartedAt: 2024-03-04 01:07:59 -0500 (Mon, 04 Mar 2024) EndedAt: 2024-03-04 01:08:21 -0500 (Mon, 04 Mar 2024) EllapsedTime: 21.4 seconds RetCode: 0 Status: OK PackageFile: SynMut_1.18.0.tgz PackageFileSize: 320.5 KiB