Package: SynExtend Version: 1.14.0 Command: rm -rf SynExtend.buildbin-libdir && mkdir SynExtend.buildbin-libdir && F:\biocbuild\bbs-3.18-bioc\R\bin\R.exe CMD INSTALL --build --library=SynExtend.buildbin-libdir SynExtend_1.14.0.tar.gz StartedAt: 2024-04-16 07:46:52 -0400 (Tue, 16 Apr 2024) EndedAt: 2024-04-16 07:47:32 -0400 (Tue, 16 Apr 2024) EllapsedTime: 40.4 seconds RetCode: 0 Status: OK PackageFile: SynExtend_1.14.0.zip PackageFileSize: 2.953 MiB