Package: SynExtend Version: 1.14.0 Command: /home/biocbuild/R/R-4.3.1/bin/R CMD build --keep-empty-dirs --no-resave-data SynExtend StartedAt: 2023-11-02 06:55:29 -0000 (Thu, 02 Nov 2023) EndedAt: 2023-11-02 06:56:25 -0000 (Thu, 02 Nov 2023) EllapsedTime: 55.1 seconds RetCode: 0 Status: OK PackageFile: SynExtend_1.14.0.tar.gz PackageFileSize: 2.276 MiB