Package: Summix Version: 2.8.0 Command: /Library/Frameworks/R.framework/Resources/bin/R CMD check --install=check:Summix.install-out.txt --library=/Library/Frameworks/R.framework/Resources/library --no-vignettes --timings Summix_2.8.0.tar.gz StartedAt: 2024-04-16 09:38:09 -0400 (Tue, 16 Apr 2024) EndedAt: 2024-04-16 09:38:53 -0400 (Tue, 16 Apr 2024) EllapsedTime: 44.4 seconds RetCode: 0 Status: WARNINGS CheckDir: Summix.Rcheck Warnings: 1