Package: SubCellBarCode Version: 1.18.0 Command: F:\biocbuild\bbs-3.18-bioc\R\bin\R.exe CMD INSTALL SubCellBarCode StartedAt: 2024-04-15 16:31:50 -0400 (Mon, 15 Apr 2024) EndedAt: 2024-04-15 16:32:23 -0400 (Mon, 15 Apr 2024) EllapsedTime: 33.5 seconds RetCode: 0 Status: OK