Package: SubCellBarCode Version: 1.18.0 Command: /Library/Frameworks/R.framework/Resources/bin/R CMD build --keep-empty-dirs --no-resave-data SubCellBarCode StartedAt: 2024-04-15 22:24:38 -0400 (Mon, 15 Apr 2024) EndedAt: 2024-04-15 22:32:12 -0400 (Mon, 15 Apr 2024) EllapsedTime: 454.8 seconds RetCode: 0 Status: OK PackageFile: SubCellBarCode_1.18.0.tar.gz PackageFileSize: 2.333 MiB