Package: SubCellBarCode Version: 1.18.0 Command: rm -rf SubCellBarCode.buildbin-libdir && mkdir SubCellBarCode.buildbin-libdir && /Users/biocbuild/BBS/utils/build-universal.sh SubCellBarCode_1.18.0.tar.gz /Library/Frameworks/R.framework/Resources/bin/R SubCellBarCode.buildbin-libdir StartedAt: 2024-04-16 12:50:04 -0400 (Tue, 16 Apr 2024) EndedAt: 2024-04-16 12:50:57 -0400 (Tue, 16 Apr 2024) EllapsedTime: 52.9 seconds RetCode: 0 Status: OK PackageFile: SubCellBarCode_1.18.0.tgz PackageFileSize: 2.753 MiB