Package: Structstrings Version: 1.18.0 Command: /Library/Frameworks/R.framework/Resources/bin/R CMD build --keep-empty-dirs --no-resave-data Structstrings StartedAt: 2024-03-03 18:31:16 -0500 (Sun, 03 Mar 2024) EndedAt: 2024-03-03 18:31:48 -0500 (Sun, 03 Mar 2024) EllapsedTime: 32.7 seconds RetCode: 0 Status: OK PackageFile: Structstrings_1.18.0.tar.gz PackageFileSize: 366.3 KiB