Package: Streamer Version: 1.48.0 Command: chmod a+r Streamer -R && F:\biocbuild\bbs-3.18-bioc\R\bin\R.exe CMD build --keep-empty-dirs --no-resave-data Streamer StartedAt: 2024-04-15 21:32:14 -0400 (Mon, 15 Apr 2024) EndedAt: 2024-04-15 21:32:39 -0400 (Mon, 15 Apr 2024) EllapsedTime: 25.0 seconds RetCode: 0 Status: OK PackageFile: Streamer_1.48.0.tar.gz PackageFileSize: 135 KiB