Package: Streamer Version: 1.48.0 Command: /Library/Frameworks/R.framework/Resources/bin/R CMD INSTALL Streamer StartedAt: 2024-04-15 15:10:08 -0400 (Mon, 15 Apr 2024) EndedAt: 2024-04-15 15:10:32 -0400 (Mon, 15 Apr 2024) EllapsedTime: 24.6 seconds RetCode: 0 Status: OK