Package: Statial Version: 1.4.5 Command: F:\biocbuild\bbs-3.18-bioc\R\bin\R.exe CMD check --no-multiarch --install=check:Statial.install-out.txt --library=F:\biocbuild\bbs-3.18-bioc\R\library --no-vignettes --timings Statial_1.4.5.tar.gz StartedAt: 2024-04-16 05:35:15 -0400 (Tue, 16 Apr 2024) EndedAt: 2024-04-16 05:48:11 -0400 (Tue, 16 Apr 2024) EllapsedTime: 775.3 seconds RetCode: 0 Status: OK CheckDir: Statial.Rcheck Warnings: 0