Package: Statial Version: 1.4.5 Command: rm -rf Statial.buildbin-libdir && mkdir Statial.buildbin-libdir && F:\biocbuild\bbs-3.18-bioc\R\bin\R.exe CMD INSTALL --build --library=Statial.buildbin-libdir Statial_1.4.5.tar.gz StartedAt: 2024-04-16 07:45:47 -0400 (Tue, 16 Apr 2024) EndedAt: 2024-04-16 07:46:30 -0400 (Tue, 16 Apr 2024) EllapsedTime: 42.4 seconds RetCode: 0 Status: OK PackageFile: Statial_1.4.5.zip PackageFileSize: 5.878 MiB