Package: Statial Version: 1.4.5 Command: /Library/Frameworks/R.framework/Resources/bin/R CMD check --install=check:Statial.install-out.txt --library=/Library/Frameworks/R.framework/Resources/library --no-vignettes --timings Statial_1.4.5.tar.gz StartedAt: 2024-04-16 09:32:36 -0400 (Tue, 16 Apr 2024) EndedAt: 2024-04-16 09:49:25 -0400 (Tue, 16 Apr 2024) EllapsedTime: 1009.6 seconds RetCode: 0 Status: OK CheckDir: Statial.Rcheck Warnings: 0