Package: Statial Version: 1.4.5 Command: /Library/Frameworks/R.framework/Resources/bin/R CMD build --keep-empty-dirs --no-resave-data Statial StartedAt: 2024-04-15 22:22:15 -0400 (Mon, 15 Apr 2024) EndedAt: 2024-04-15 22:33:55 -0400 (Mon, 15 Apr 2024) EllapsedTime: 699.7 seconds RetCode: 0 Status: OK PackageFile: Statial_1.4.5.tar.gz PackageFileSize: 9.503 MiB