Package: Statial Version: 1.4.5 Command: rm -rf Statial.buildbin-libdir && mkdir Statial.buildbin-libdir && /Users/biocbuild/BBS/utils/build-universal.sh Statial_1.4.5.tar.gz /Library/Frameworks/R.framework/Resources/bin/R Statial.buildbin-libdir StartedAt: 2024-04-16 12:49:35 -0400 (Tue, 16 Apr 2024) EndedAt: 2024-04-16 12:50:45 -0400 (Tue, 16 Apr 2024) EllapsedTime: 70.0 seconds RetCode: 0 Status: OK PackageFile: Statial_1.4.5.tgz PackageFileSize: 9.576 MiB