Package: Statial Version: 1.4.5 Command: /Library/Frameworks/R.framework/Resources/bin/R CMD build --keep-empty-dirs --no-resave-data Statial StartedAt: 2024-03-03 18:30:19 -0500 (Sun, 03 Mar 2024) EndedAt: 2024-03-03 18:37:31 -0500 (Sun, 03 Mar 2024) EllapsedTime: 431.9 seconds RetCode: 0 Status: OK PackageFile: Statial_1.4.5.tar.gz PackageFileSize: 9.087 MiB