Package: SpotClean Version: 1.4.1 Command: /Library/Frameworks/R.framework/Resources/bin/R CMD build --keep-empty-dirs --no-resave-data SpotClean StartedAt: 2024-03-03 18:28:09 -0500 (Sun, 03 Mar 2024) EndedAt: 2024-03-03 18:31:48 -0500 (Sun, 03 Mar 2024) EllapsedTime: 219.3 seconds RetCode: 0 Status: OK PackageFile: SpotClean_1.4.1.tar.gz PackageFileSize: 3.941 MiB