Package: SplicingGraphs Version: 1.42.0 Command: chmod a+r SplicingGraphs -R && F:\biocbuild\bbs-3.18-bioc\R\bin\R.exe CMD build --keep-empty-dirs --no-resave-data SplicingGraphs StartedAt: 2024-04-15 21:25:02 -0400 (Mon, 15 Apr 2024) EndedAt: 2024-04-15 21:27:56 -0400 (Mon, 15 Apr 2024) EllapsedTime: 174.0 seconds RetCode: 0 Status: OK PackageFile: SplicingGraphs_1.42.0.tar.gz PackageFileSize: 45.84 MiB