Package: SplicingGraphs Version: 1.42.0 Command: /Library/Frameworks/R.framework/Resources/bin/R CMD check --install=check:SplicingGraphs.install-out.txt --library=/Library/Frameworks/R.framework/Resources/library --no-vignettes --timings SplicingGraphs_1.42.0.tar.gz StartedAt: 2024-04-16 09:23:26 -0400 (Tue, 16 Apr 2024) EndedAt: 2024-04-16 09:38:47 -0400 (Tue, 16 Apr 2024) EllapsedTime: 920.6 seconds RetCode: 0 Status: WARNINGS CheckDir: SplicingGraphs.Rcheck Warnings: 3