Package: SplicingGraphs Version: 1.41.0 Command: /home/biocbuild/R/R-4.3.1/bin/R CMD check --install=check:SplicingGraphs.install-out.txt --library=/home/biocbuild/R/R-4.3.1/site-library --timings SplicingGraphs_1.41.0.tar.gz StartedAt: 2023-10-24 13:33:27 -0000 (Tue, 24 Oct 2023) EndedAt: 2023-10-24 13:48:20 -0000 (Tue, 24 Oct 2023) EllapsedTime: 893.3 seconds RetCode: 0 Status: WARNINGS CheckDir: SplicingGraphs.Rcheck Warnings: 3