Package: SpliceWiz Version: 1.4.1 Command: rm -rf SpliceWiz.buildbin-libdir && mkdir SpliceWiz.buildbin-libdir && F:\biocbuild\bbs-3.18-bioc\R\bin\R.exe CMD INSTALL --build --library=SpliceWiz.buildbin-libdir SpliceWiz_1.4.1.tar.gz StartedAt: 2024-04-16 07:44:54 -0400 (Tue, 16 Apr 2024) EndedAt: 2024-04-16 07:47:52 -0400 (Tue, 16 Apr 2024) EllapsedTime: 178.0 seconds RetCode: 0 Status: OK PackageFile: SpliceWiz_1.4.1.zip PackageFileSize: 5.478 MiB