Package: SpliceWiz Version: 1.4.1 Command: /Library/Frameworks/R.framework/Resources/bin/R CMD INSTALL SpliceWiz StartedAt: 2024-03-03 15:45:21 -0500 (Sun, 03 Mar 2024) EndedAt: 2024-03-03 15:47:52 -0500 (Sun, 03 Mar 2024) EllapsedTime: 150.2 seconds RetCode: 0 Status: OK