Package: SpidermiR Version: 1.32.0 Command: rm -rf SpidermiR.buildbin-libdir && mkdir SpidermiR.buildbin-libdir && F:\biocbuild\bbs-3.18-bioc\R\bin\R.exe CMD INSTALL --build --library=SpidermiR.buildbin-libdir SpidermiR_1.32.0.tar.gz StartedAt: 2024-04-16 07:44:47 -0400 (Tue, 16 Apr 2024) EndedAt: 2024-04-16 07:45:11 -0400 (Tue, 16 Apr 2024) EllapsedTime: 24.5 seconds RetCode: 0 Status: OK PackageFile: SpidermiR_1.32.0.zip PackageFileSize: 57.99 KiB