Package: SpidermiR Version: 1.32.0 Command: rm -rf SpidermiR.buildbin-libdir && mkdir SpidermiR.buildbin-libdir && /Users/biocbuild/BBS/utils/build-universal.sh SpidermiR_1.32.0.tar.gz /Library/Frameworks/R.framework/Resources/bin/R SpidermiR.buildbin-libdir StartedAt: 2024-04-16 12:48:21 -0400 (Tue, 16 Apr 2024) EndedAt: 2024-04-16 12:48:55 -0400 (Tue, 16 Apr 2024) EllapsedTime: 34.0 seconds RetCode: 0 Status: OK PackageFile: SpidermiR_1.32.0.tgz PackageFileSize: 54.46 KiB