Package: SpidermiR Version: 1.32.0 Command: /Library/Frameworks/R.framework/Resources/bin/R CMD check --install=check:SpidermiR.install-out.txt --library=/Library/Frameworks/R.framework/Resources/library --no-vignettes --timings SpidermiR_1.32.0.tar.gz StartedAt: 2024-03-03 23:40:22 -0500 (Sun, 03 Mar 2024) EndedAt: 2024-03-03 23:42:31 -0500 (Sun, 03 Mar 2024) EllapsedTime: 129.7 seconds RetCode: 1 Status: ERROR CheckDir: SpidermiR.Rcheck Warnings: NA