Package: SpidermiR Version: 1.32.0 Command: /Library/Frameworks/R.framework/Resources/bin/R CMD build --keep-empty-dirs --no-resave-data SpidermiR StartedAt: 2024-03-03 18:27:08 -0500 (Sun, 03 Mar 2024) EndedAt: 2024-03-03 18:27:09 -0500 (Sun, 03 Mar 2024) EllapsedTime: 1.1 seconds RetCode: 0 Status: OK PackageFile: SpidermiR_1.32.0.tar.gz PackageFileSize: 8.459 KiB