Package: SpidermiR Version: 1.32.0 Command: /home/biocbuild/R/R-4.3.1/bin/R CMD build --keep-empty-dirs --no-resave-data SpidermiR StartedAt: 2023-11-02 06:40:33 -0000 (Thu, 02 Nov 2023) EndedAt: 2023-11-02 06:40:34 -0000 (Thu, 02 Nov 2023) EllapsedTime: 1.0 seconds RetCode: 0 Status: OK PackageFile: SpidermiR_1.32.0.tar.gz PackageFileSize: 8.434 KiB